Package: OrganismDbi Version: 1.51.4 Command: /home/biocbuild/R/R/bin/R CMD INSTALL OrganismDbi StartedAt: 2025-07-24 21:47:48 -0000 (Thu, 24 Jul 2025) EndedAt: 2025-07-24 21:48:36 -0000 (Thu, 24 Jul 2025) EllapsedTime: 47.9 seconds RetCode: 0 Status: OK