Package: OrganismDbi Version: 1.51.4 Command: F:\biocbuild\bbs-3.22-bioc\R\bin\R.exe CMD INSTALL OrganismDbi StartedAt: 2025-07-24 16:47:22 -0400 (Thu, 24 Jul 2025) EndedAt: 2025-07-24 16:48:46 -0400 (Thu, 24 Jul 2025) EllapsedTime: 83.6 seconds RetCode: 0 Status: OK