Package: OrganismDbi Version: 1.51.4 Command: /home/biocbuild/bbs-3.22-bioc/R/bin/R CMD check --install=check:OrganismDbi.install-out.txt --library=/home/biocbuild/bbs-3.22-bioc/R/site-library --timings OrganismDbi_1.51.4.tar.gz StartedAt: 2025-07-12 00:51:13 -0400 (Sat, 12 Jul 2025) EndedAt: 2025-07-12 01:03:41 -0400 (Sat, 12 Jul 2025) EllapsedTime: 747.4 seconds RetCode: 0 Status: OK CheckDir: OrganismDbi.Rcheck Warnings: 0