Package: OrganismDbi Version: 1.51.4 Command: /home/biocbuild/bbs-3.22-bioc/R/bin/R CMD build --keep-empty-dirs --no-resave-data --md5 OrganismDbi StartedAt: 2025-07-11 18:22:44 -0400 (Fri, 11 Jul 2025) EndedAt: 2025-07-11 18:23:58 -0400 (Fri, 11 Jul 2025) EllapsedTime: 74.1 seconds RetCode: 0 Status: OK PackageFile: OrganismDbi_1.51.4.tar.gz PackageFileSize: 388.8 KiB