Package: OrganismDbi Version: 1.51.4 Command: /Library/Frameworks/R.framework/Resources/bin/R CMD INSTALL OrganismDbi StartedAt: 2025-07-20 15:42:36 -0400 (Sun, 20 Jul 2025) EndedAt: 2025-07-20 15:43:26 -0400 (Sun, 20 Jul 2025) EllapsedTime: 49.7 seconds RetCode: 0 Status: OK