Package: OrganismDbi Version: 1.51.4 Command: /Library/Frameworks/R.framework/Resources/bin/R CMD build --keep-empty-dirs --no-resave-data OrganismDbi StartedAt: 2025-07-21 17:07:55 -0400 (Mon, 21 Jul 2025) EndedAt: 2025-07-21 17:08:29 -0400 (Mon, 21 Jul 2025) EllapsedTime: 34.4 seconds RetCode: 0 Status: OK PackageFile: OrganismDbi_1.51.4.tar.gz PackageFileSize: 387.6 KiB