Package: OrganismDbi Version: 1.51.4 Command: rm -rf OrganismDbi.buildbin-libdir && mkdir OrganismDbi.buildbin-libdir && /Users/biocbuild/BBS/utils/build-universal.sh OrganismDbi_1.51.4.tar.gz /Library/Frameworks/R.framework/Resources/bin/R OrganismDbi.buildbin-libdir StartedAt: 2025-07-21 22:35:06 -0400 (Mon, 21 Jul 2025) EndedAt: 2025-07-21 22:35:23 -0400 (Mon, 21 Jul 2025) EllapsedTime: 16.4 seconds RetCode: 0 Status: OK PackageFile: OrganismDbi_1.51.4.tgz PackageFileSize: 772.1 KiB