Package: OrderedList Version: 1.81.0 Command: /home/biocbuild/R/R/bin/R CMD INSTALL OrderedList StartedAt: 2025-07-21 20:34:44 -0000 (Mon, 21 Jul 2025) EndedAt: 2025-07-21 20:34:50 -0000 (Mon, 21 Jul 2025) EllapsedTime: 6.4 seconds RetCode: 0 Status: OK