Package: OrderedList Version: 1.81.0 Command: /home/biocbuild/R/R/bin/R CMD check --install=check:OrderedList.install-out.txt --library=/home/biocbuild/R/R/site-library --no-vignettes --timings OrderedList_1.81.0.tar.gz StartedAt: 2025-07-22 10:06:05 -0000 (Tue, 22 Jul 2025) EndedAt: 2025-07-22 10:06:42 -0000 (Tue, 22 Jul 2025) EllapsedTime: 37.1 seconds RetCode: 0 Status: OK CheckDir: OrderedList.Rcheck Warnings: 0