Package: OrderedList Version: 1.81.0 Command: /home/biocbuild/R/R/bin/R CMD build --keep-empty-dirs --no-resave-data OrderedList StartedAt: 2025-07-22 01:41:51 -0000 (Tue, 22 Jul 2025) EndedAt: 2025-07-22 01:43:34 -0000 (Tue, 22 Jul 2025) EllapsedTime: 103.1 seconds RetCode: 0 Status: OK PackageFile: OrderedList_1.81.0.tar.gz PackageFileSize: 1.036 MiB