Package: OrderedList Version: 1.81.0 Command: F:\biocbuild\bbs-3.22-bioc\R\bin\R.exe CMD INSTALL OrderedList StartedAt: 2025-07-11 15:23:37 -0400 (Fri, 11 Jul 2025) EndedAt: 2025-07-11 15:23:55 -0400 (Fri, 11 Jul 2025) EllapsedTime: 17.8 seconds RetCode: 0 Status: OK