Package: OrderedList Version: 1.81.0 Command: F:\biocbuild\bbs-3.22-bioc\R\bin\R.exe CMD check --no-multiarch --install=check:OrderedList.install-out.txt --library=F:\biocbuild\bbs-3.22-bioc\R\library --no-vignettes --timings OrderedList_1.81.0.tar.gz StartedAt: 2025-07-12 04:44:38 -0400 (Sat, 12 Jul 2025) EndedAt: 2025-07-12 04:45:19 -0400 (Sat, 12 Jul 2025) EllapsedTime: 40.5 seconds RetCode: 0 Status: OK CheckDir: OrderedList.Rcheck Warnings: 0