Package: OrderedList Version: 1.81.0 Command: chmod a+r OrderedList -R && F:\biocbuild\bbs-3.22-bioc\R\bin\R.exe CMD build --keep-empty-dirs --no-resave-data OrderedList StartedAt: 2025-07-11 20:53:03 -0400 (Fri, 11 Jul 2025) EndedAt: 2025-07-11 20:55:06 -0400 (Fri, 11 Jul 2025) EllapsedTime: 123.6 seconds RetCode: 0 Status: OK PackageFile: OrderedList_1.81.0.tar.gz PackageFileSize: 816.5 KiB