Package: OrderedList Version: 1.81.0 Command: /home/biocbuild/bbs-3.22-bioc/R/bin/R CMD INSTALL OrderedList StartedAt: 2025-07-02 15:16:31 -0400 (Wed, 02 Jul 2025) EndedAt: 2025-07-02 15:16:35 -0400 (Wed, 02 Jul 2025) EllapsedTime: 3.8 seconds RetCode: 0 Status: OK