Package: OrderedList Version: 1.81.0 Command: /home/biocbuild/bbs-3.22-bioc/R/bin/R CMD check --install=check:OrderedList.install-out.txt --library=/home/biocbuild/bbs-3.22-bioc/R/site-library --timings OrderedList_1.81.0.tar.gz StartedAt: 2025-07-07 00:45:00 -0400 (Mon, 07 Jul 2025) EndedAt: 2025-07-07 00:46:58 -0400 (Mon, 07 Jul 2025) EllapsedTime: 118.1 seconds RetCode: 0 Status: OK CheckDir: OrderedList.Rcheck Warnings: 0