Package: OrderedList Version: 1.81.0 Command: /home/biocbuild/bbs-3.22-bioc/R/bin/R CMD build --keep-empty-dirs --no-resave-data --md5 OrderedList StartedAt: 2025-07-02 18:36:11 -0400 (Wed, 02 Jul 2025) EndedAt: 2025-07-02 18:37:48 -0400 (Wed, 02 Jul 2025) EllapsedTime: 97.2 seconds RetCode: 0 Status: OK PackageFile: OrderedList_1.81.0.tar.gz PackageFileSize: 1.056 MiB