Package: OrderedList Version: 1.81.0 Command: /Library/Frameworks/R.framework/Resources/bin/R CMD check --install=check:OrderedList.install-out.txt --library=/Library/Frameworks/R.framework/Resources/library --no-vignettes --timings OrderedList_1.81.0.tar.gz StartedAt: 2025-06-29 22:12:37 -0400 (Sun, 29 Jun 2025) EndedAt: 2025-06-29 22:13:17 -0400 (Sun, 29 Jun 2025) EllapsedTime: 40.0 seconds RetCode: 0 Status: OK CheckDir: OrderedList.Rcheck Warnings: 0