Package: OrderedList Version: 1.81.0 Command: /Library/Frameworks/R.framework/Resources/bin/R CMD build --keep-empty-dirs --no-resave-data OrderedList StartedAt: 2025-06-29 17:43:40 -0400 (Sun, 29 Jun 2025) EndedAt: 2025-06-29 17:45:23 -0400 (Sun, 29 Jun 2025) EllapsedTime: 102.9 seconds RetCode: 0 Status: OK PackageFile: OrderedList_1.81.0.tar.gz PackageFileSize: 1.051 MiB