Package: OrderedList Version: 1.81.0 Command: /Library/Frameworks/R.framework/Resources/bin/R CMD build --keep-empty-dirs --no-resave-data OrderedList StartedAt: 2025-07-20 17:08:37 -0400 (Sun, 20 Jul 2025) EndedAt: 2025-07-20 17:10:06 -0400 (Sun, 20 Jul 2025) EllapsedTime: 88.9 seconds RetCode: 0 Status: OK PackageFile: OrderedList_1.81.0.tar.gz PackageFileSize: 1.054 MiB