Package: OrderedList Version: 1.81.0 Command: rm -rf OrderedList.buildbin-libdir && mkdir OrderedList.buildbin-libdir && /Users/biocbuild/BBS/utils/build-universal.sh OrderedList_1.81.0.tar.gz /Library/Frameworks/R.framework/Resources/bin/R OrderedList.buildbin-libdir StartedAt: 2025-07-20 22:35:35 -0400 (Sun, 20 Jul 2025) EndedAt: 2025-07-20 22:35:38 -0400 (Sun, 20 Jul 2025) EllapsedTime: 2.0 seconds RetCode: 0 Status: OK PackageFile: OrderedList_1.81.0.tgz PackageFileSize: 1.111 MiB