Package: OncoSimulR Version: 4.11.1 Command: /Library/Frameworks/R.framework/Resources/bin/R CMD INSTALL OncoSimulR StartedAt: 2025-07-04 15:19:15 -0400 (Fri, 04 Jul 2025) EndedAt: 2025-07-04 15:21:49 -0400 (Fri, 04 Jul 2025) EllapsedTime: 153.9 seconds RetCode: 0 Status: OK