Package: OncoSimulR Version: 4.11.1 Command: /Library/Frameworks/R.framework/Resources/bin/R CMD check --install=check:OncoSimulR.install-out.txt --library=/Library/Frameworks/R.framework/Resources/library --no-vignettes --timings OncoSimulR_4.11.1.tar.gz StartedAt: 2025-07-04 22:17:54 -0400 (Fri, 04 Jul 2025) EndedAt: 2025-07-04 22:24:58 -0400 (Fri, 04 Jul 2025) EllapsedTime: 424.6 seconds RetCode: 0 Status: OK CheckDir: OncoSimulR.Rcheck Warnings: 0