Package: OncoSimulR Version: 4.11.1 Command: /Library/Frameworks/R.framework/Resources/bin/R CMD build --keep-empty-dirs --no-resave-data OncoSimulR StartedAt: 2025-07-03 17:52:41 -0400 (Thu, 03 Jul 2025) EndedAt: 2025-07-03 17:59:57 -0400 (Thu, 03 Jul 2025) EllapsedTime: 435.7 seconds RetCode: 0 Status: OK PackageFile: OncoSimulR_4.11.1.tar.gz PackageFileSize: 9.175 MiB