Package: OncoSimulR Version: 4.11.1 Command: rm -rf OncoSimulR.buildbin-libdir && mkdir OncoSimulR.buildbin-libdir && /Users/biocbuild/BBS/utils/build-universal.sh OncoSimulR_4.11.1.tar.gz /Library/Frameworks/R.framework/Resources/bin/R OncoSimulR.buildbin-libdir StartedAt: 2025-07-05 00:58:55 -0400 (Sat, 05 Jul 2025) EndedAt: 2025-07-05 01:01:42 -0400 (Sat, 05 Jul 2025) EllapsedTime: 167.5 seconds RetCode: 0 Status: OK PackageFile: OncoSimulR_4.11.1.tgz PackageFileSize: 9.584 MiB