Package: Omixer Version: 1.19.0 Command: /home/biocbuild/R/R/bin/R CMD build --keep-empty-dirs --no-resave-data Omixer StartedAt: 2025-07-18 01:44:46 -0000 (Fri, 18 Jul 2025) EndedAt: 2025-07-18 01:47:03 -0000 (Fri, 18 Jul 2025) EllapsedTime: 137.1 seconds RetCode: 0 Status: OK PackageFile: Omixer_1.19.0.tar.gz PackageFileSize: 1.283 MiB