Package: Omixer Version: 1.19.0 Command: F:\biocbuild\bbs-3.22-bioc\R\bin\R.exe CMD check --no-multiarch --install=check:Omixer.install-out.txt --library=F:\biocbuild\bbs-3.22-bioc\R\library --no-vignettes --timings Omixer_1.19.0.tar.gz StartedAt: 2025-07-12 04:40:55 -0400 (Sat, 12 Jul 2025) EndedAt: 2025-07-12 04:41:54 -0400 (Sat, 12 Jul 2025) EllapsedTime: 58.4 seconds RetCode: 0 Status: OK CheckDir: Omixer.Rcheck Warnings: 0