Package: Omixer Version: 1.19.0 Command: rm -rf Omixer.buildbin-libdir && mkdir Omixer.buildbin-libdir && /Users/biocbuild/BBS/utils/build-universal.sh Omixer_1.19.0.tar.gz /Library/Frameworks/R.framework/Resources/bin/R Omixer.buildbin-libdir StartedAt: 2025-07-14 01:10:40 -0400 (Mon, 14 Jul 2025) EndedAt: 2025-07-14 01:10:50 -0400 (Mon, 14 Jul 2025) EllapsedTime: 10.4 seconds RetCode: 0 Status: OK PackageFile: Omixer_1.19.0.tgz PackageFileSize: 1.057 MiB