Package: OmicsMLRepoR Version: 1.3.1 Command: F:\biocbuild\bbs-3.22-bioc\R\bin\R.exe CMD check --no-multiarch --install=check:OmicsMLRepoR.install-out.txt --library=F:\biocbuild\bbs-3.22-bioc\R\library --no-vignettes --timings OmicsMLRepoR_1.3.1.tar.gz StartedAt: 2025-07-01 04:44:16 -0400 (Tue, 01 Jul 2025) EndedAt: 2025-07-01 04:46:19 -0400 (Tue, 01 Jul 2025) EllapsedTime: 122.4 seconds RetCode: 0 Status: OK CheckDir: OmicsMLRepoR.Rcheck Warnings: 0