Package: OmicCircos Version: 1.47.0 Command: F:\biocbuild\bbs-3.22-bioc\R\bin\R.exe CMD check --no-multiarch --install=check:OmicCircos.install-out.txt --library=F:\biocbuild\bbs-3.22-bioc\R\library --no-vignettes --timings OmicCircos_1.47.0.tar.gz StartedAt: 2025-07-15 04:43:22 -0400 (Tue, 15 Jul 2025) EndedAt: 2025-07-15 04:45:11 -0400 (Tue, 15 Jul 2025) EllapsedTime: 109.1 seconds RetCode: 0 Status: WARNINGS CheckDir: OmicCircos.Rcheck Warnings: 1