Package: OmicCircos Version: 1.47.0 Command: /Library/Frameworks/R.framework/Resources/bin/R CMD INSTALL OmicCircos StartedAt: 2025-07-16 15:16:27 -0400 (Wed, 16 Jul 2025) EndedAt: 2025-07-16 15:16:45 -0400 (Wed, 16 Jul 2025) EllapsedTime: 18.0 seconds RetCode: 0 Status: OK