Package: OmicCircos Version: 1.47.0 Command: rm -rf OmicCircos.buildbin-libdir && mkdir OmicCircos.buildbin-libdir && /Users/biocbuild/BBS/utils/build-universal.sh OmicCircos_1.47.0.tar.gz /Library/Frameworks/R.framework/Resources/bin/R OmicCircos.buildbin-libdir StartedAt: 2025-07-20 22:35:16 -0400 (Sun, 20 Jul 2025) EndedAt: 2025-07-20 22:35:22 -0400 (Sun, 20 Jul 2025) EllapsedTime: 6.1 seconds RetCode: 0 Status: OK PackageFile: OmicCircos_1.47.0.tgz PackageFileSize: 5.065 MiB