Package: OmaDB Version: 2.25.0 Command: chmod a+r OmaDB -R && F:\biocbuild\bbs-3.22-bioc\R\bin\R.exe CMD build --keep-empty-dirs --no-resave-data OmaDB StartedAt: 2025-07-20 20:48:56 -0400 (Sun, 20 Jul 2025) EndedAt: 2025-07-20 20:49:33 -0400 (Sun, 20 Jul 2025) EllapsedTime: 37.6 seconds RetCode: 0 Status: OK PackageFile: OmaDB_2.25.0.tar.gz PackageFileSize: 98.31 KiB