Package: OmaDB Version: 2.25.0 Command: rm -rf OmaDB.buildbin-libdir && mkdir OmaDB.buildbin-libdir && F:\biocbuild\bbs-3.22-bioc\R\bin\R.exe CMD INSTALL --build --library=OmaDB.buildbin-libdir OmaDB_2.25.0.tar.gz StartedAt: 2025-07-21 09:37:37 -0400 (Mon, 21 Jul 2025) EndedAt: 2025-07-21 09:38:05 -0400 (Mon, 21 Jul 2025) EllapsedTime: 28.8 seconds RetCode: 0 Status: OK PackageFile: OmaDB_2.25.0.zip PackageFileSize: 195.4 KiB