############################################################################## ############################################################################## ### ### Running command: ### ### /Library/Frameworks/R.framework/Resources/bin/R CMD check --install=check:OmaDB.install-out.txt --library=/Library/Frameworks/R.framework/Resources/library --no-vignettes --timings OmaDB_2.25.0.tar.gz ### ############################################################################## ############################################################################## * using log directory ‘/Users/biocbuild/bbs-3.22-bioc/meat/OmaDB.Rcheck’ * using R version 4.5.1 (2025-06-13) * using platform: x86_64-apple-darwin20 * R was compiled by Apple clang version 14.0.0 (clang-1400.0.29.202) GNU Fortran (GCC) 14.2.0 * running under: macOS Monterey 12.7.6 * using session charset: UTF-8 * using option ‘--no-vignettes’ * checking for file ‘OmaDB/DESCRIPTION’ ... OK * this is package ‘OmaDB’ version ‘2.25.0’ * package encoding: UTF-8 * checking package namespace information ... OK * checking package dependencies ... OK * checking if this is a source package ... OK * checking if there is a namespace ... OK * checking for hidden files and directories ... OK * checking for portable file names ... OK * checking for sufficient/correct file permissions ... OK * checking whether package ‘OmaDB’ can be installed ... OK * checking installed package size ... OK * checking package directory ... OK * checking ‘build’ directory ... OK * checking DESCRIPTION meta-information ... OK * checking top-level files ... OK * checking for left-over files ... OK * checking index information ... OK * checking package subdirectories ... OK * checking code files for non-ASCII characters ... OK * checking R files for syntax errors ... OK * checking whether the package can be loaded ... OK * checking whether the package can be loaded with stated dependencies ... OK * checking whether the package can be unloaded cleanly ... OK * checking whether the namespace can be loaded with stated dependencies ... OK * checking whether the namespace can be unloaded cleanly ... OK * checking dependencies in R code ... OK * checking S3 generic/method consistency ... OK * checking replacement functions ... OK * checking foreign function calls ... OK * checking R code for possible problems ... OK * checking Rd files ... OK * checking Rd metadata ... OK * checking Rd cross-references ... OK * checking for missing documentation entries ... OK * checking for code/documentation mismatches ... OK * checking Rd \usage sections ... NOTE Documented arguments not in \usage in Rd file 'getGenomeAlignment-deprecated.Rd': ‘genome_id1’ ‘genome_id2’ ‘per_page’ Functions with \usage entries need to have the appropriate \alias entries, and all their arguments documented. The \usage entries must correspond to syntactically valid R code. See chapter ‘Writing R documentation files’ in the ‘Writing R Extensions’ manual. * checking Rd contents ... OK * checking for unstated dependencies in examples ... OK * checking contents of ‘data’ directory ... OK * checking data for non-ASCII characters ... OK * checking LazyData ... OK * checking data for ASCII and uncompressed saves ... OK * checking files in ‘vignettes’ ... OK * checking examples ... OK Examples with CPU (user + system) or elapsed time > 5s user system elapsed getGenome 210.156 9.345 558.976 getGenomePairs 19.368 0.809 34.241 getOMAGroup 1.993 0.211 18.530 mapSequence 1.219 0.100 26.464 getTopGO 1.047 0.043 36.415 annotateSequence 0.494 0.015 8.491 getProtein 0.215 0.013 46.191 formatTopGO 0.116 0.012 30.088 getTaxonomy 0.067 0.004 10.011 getHOG 0.033 0.004 35.236 resolveURL 0.018 0.002 7.622 getVersion 0.010 0.003 30.101 getTree 0.011 0.002 11.660 searchProtein 0.010 0.001 8.558 * checking for unstated dependencies in ‘tests’ ... OK * checking tests ... Running ‘testthat.R’ OK * checking for unstated dependencies in vignettes ... OK * checking package vignettes ... OK * checking running R code from vignettes ... SKIPPED * checking re-building of vignette outputs ... SKIPPED * checking PDF version of manual ... OK * DONE Status: 1 NOTE See ‘/Users/biocbuild/bbs-3.22-bioc/meat/OmaDB.Rcheck/00check.log’ for details.