Package: OVESEG Version: 1.25.0 Command: /home/biocbuild/R/R/bin/R CMD INSTALL OVESEG StartedAt: 2025-07-24 21:18:45 -0000 (Thu, 24 Jul 2025) EndedAt: 2025-07-24 21:19:09 -0000 (Thu, 24 Jul 2025) EllapsedTime: 23.2 seconds RetCode: 0 Status: OK