Package: OVESEG Version: 1.25.0 Command: /home/biocbuild/R/R/bin/R CMD build --keep-empty-dirs --no-resave-data OVESEG StartedAt: 2025-07-25 02:38:48 -0000 (Fri, 25 Jul 2025) EndedAt: 2025-07-25 02:47:38 -0000 (Fri, 25 Jul 2025) EllapsedTime: 529.8 seconds RetCode: 0 Status: OK PackageFile: OVESEG_1.25.0.tar.gz PackageFileSize: 791.5 KiB