Package: OVESEG Version: 1.25.0 Command: chmod a+r OVESEG -R && F:\biocbuild\bbs-3.22-bioc\R\bin\R.exe CMD build --keep-empty-dirs --no-resave-data OVESEG StartedAt: 2025-06-29 20:56:55 -0400 (Sun, 29 Jun 2025) EndedAt: 2025-06-29 21:02:47 -0400 (Sun, 29 Jun 2025) EllapsedTime: 352.2 seconds RetCode: 0 Status: OK PackageFile: OVESEG_1.25.0.tar.gz PackageFileSize: 766 KiB