Package: OVESEG Version: 1.25.0 Command: rm -rf OVESEG.buildbin-libdir && mkdir OVESEG.buildbin-libdir && F:\biocbuild\bbs-3.22-bioc\R\bin\R.exe CMD INSTALL --build --library=OVESEG.buildbin-libdir OVESEG_1.25.0.tar.gz StartedAt: 2025-06-30 09:21:43 -0400 (Mon, 30 Jun 2025) EndedAt: 2025-06-30 09:22:07 -0400 (Mon, 30 Jun 2025) EllapsedTime: 23.9 seconds RetCode: 0 Status: OK PackageFile: OVESEG_1.25.0.zip PackageFileSize: 1.143 MiB