Package: OVESEG Version: 1.25.0 Command: /home/biocbuild/bbs-3.22-bioc/R/bin/R CMD INSTALL OVESEG StartedAt: 2025-07-01 15:16:41 -0400 (Tue, 01 Jul 2025) EndedAt: 2025-07-01 15:16:57 -0400 (Tue, 01 Jul 2025) EllapsedTime: 16.1 seconds RetCode: 0 Status: OK