Package: OVESEG Version: 1.25.0 Command: /home/biocbuild/bbs-3.22-bioc/R/bin/R CMD build --keep-empty-dirs --no-resave-data --md5 OVESEG StartedAt: 2025-07-01 18:27:39 -0400 (Tue, 01 Jul 2025) EndedAt: 2025-07-01 18:33:54 -0400 (Tue, 01 Jul 2025) EllapsedTime: 374.5 seconds RetCode: 0 Status: OK PackageFile: OVESEG_1.25.0.tar.gz PackageFileSize: 800.1 KiB