Package: OVESEG Version: 1.25.0 Command: rm -rf OVESEG.buildbin-libdir && mkdir OVESEG.buildbin-libdir && /Users/biocbuild/BBS/utils/build-universal.sh OVESEG_1.25.0.tar.gz /Library/Frameworks/R.framework/Resources/bin/R OVESEG.buildbin-libdir StartedAt: 2025-06-29 22:27:49 -0400 (Sun, 29 Jun 2025) EndedAt: 2025-06-29 22:27:57 -0400 (Sun, 29 Jun 2025) EllapsedTime: 7.1 seconds RetCode: 0 Status: OK PackageFile: OVESEG_1.25.0.tgz PackageFileSize: 875 KiB