Package: OUTRIDER Version: 1.27.1 Command: F:\biocbuild\bbs-3.22-bioc\R\bin\R.exe CMD check --no-multiarch --install=check:OUTRIDER.install-out.txt --library=F:\biocbuild\bbs-3.22-bioc\R\library --no-vignettes --timings OUTRIDER_1.27.1.tar.gz StartedAt: 2025-06-30 04:41:48 -0400 (Mon, 30 Jun 2025) EndedAt: 2025-06-30 04:41:53 -0400 (Mon, 30 Jun 2025) EllapsedTime: 5.0 seconds RetCode: 1 Status: ERROR CheckDir: OUTRIDER.Rcheck Warnings: NA