Package: OUTRIDER Version: 1.27.1 Command: /Library/Frameworks/R.framework/Resources/bin/R CMD check --install=check:OUTRIDER.install-out.txt --library=/Library/Frameworks/R.framework/Resources/library --no-vignettes --timings OUTRIDER_1.27.1.tar.gz StartedAt: 2025-07-14 20:34:59 -0400 (Mon, 14 Jul 2025) EndedAt: 2025-07-14 20:35:03 -0400 (Mon, 14 Jul 2025) EllapsedTime: 4.0 seconds RetCode: 1 Status: ERROR CheckDir: OUTRIDER.Rcheck Warnings: NA