Package: OTUbase Version: 1.59.0 Command: /home/biocbuild/R/R/bin/R CMD check --install=check:OTUbase.install-out.txt --library=/home/biocbuild/R/R/site-library --no-vignettes --timings OTUbase_1.59.0.tar.gz StartedAt: 2025-07-18 09:37:46 -0000 (Fri, 18 Jul 2025) EndedAt: 2025-07-18 09:44:08 -0000 (Fri, 18 Jul 2025) EllapsedTime: 382.4 seconds RetCode: 0 Status: OK CheckDir: OTUbase.Rcheck Warnings: 0