Package: OTUbase Version: 1.59.0 Command: /home/biocbuild/R/R/bin/R CMD build --keep-empty-dirs --no-resave-data OTUbase StartedAt: 2025-07-18 01:50:08 -0000 (Fri, 18 Jul 2025) EndedAt: 2025-07-18 01:51:44 -0000 (Fri, 18 Jul 2025) EllapsedTime: 96.4 seconds RetCode: 0 Status: OK PackageFile: OTUbase_1.59.0.tar.gz PackageFileSize: 175.7 KiB