Package: OTUbase Version: 1.59.0 Command: F:\biocbuild\bbs-3.22-bioc\R\bin\R.exe CMD INSTALL OTUbase StartedAt: 2025-07-20 16:22:48 -0400 (Sun, 20 Jul 2025) EndedAt: 2025-07-20 16:23:46 -0400 (Sun, 20 Jul 2025) EllapsedTime: 57.6 seconds RetCode: 0 Status: OK