Package: OTUbase Version: 1.59.0 Command: F:\biocbuild\bbs-3.22-bioc\R\bin\R.exe CMD check --no-multiarch --install=check:OTUbase.install-out.txt --library=F:\biocbuild\bbs-3.22-bioc\R\library --no-vignettes --timings OTUbase_1.59.0.tar.gz StartedAt: 2025-07-21 04:57:07 -0400 (Mon, 21 Jul 2025) EndedAt: 2025-07-21 05:02:24 -0400 (Mon, 21 Jul 2025) EllapsedTime: 317.5 seconds RetCode: 0 Status: OK CheckDir: OTUbase.Rcheck Warnings: 0