Package: OTUbase Version: 1.59.0 Command: chmod a+r OTUbase -R && F:\biocbuild\bbs-3.22-bioc\R\bin\R.exe CMD build --keep-empty-dirs --no-resave-data OTUbase StartedAt: 2025-07-18 20:59:49 -0400 (Fri, 18 Jul 2025) EndedAt: 2025-07-18 21:00:49 -0400 (Fri, 18 Jul 2025) EllapsedTime: 60.5 seconds RetCode: 0 Status: OK PackageFile: OTUbase_1.59.0.tar.gz PackageFileSize: 178.7 KiB