Package: OTUbase Version: 1.59.0 Command: rm -rf OTUbase.buildbin-libdir && mkdir OTUbase.buildbin-libdir && F:\biocbuild\bbs-3.22-bioc\R\bin\R.exe CMD INSTALL --build --library=OTUbase.buildbin-libdir OTUbase_1.59.0.tar.gz StartedAt: 2025-07-19 09:44:52 -0400 (Sat, 19 Jul 2025) EndedAt: 2025-07-19 09:45:44 -0400 (Sat, 19 Jul 2025) EllapsedTime: 52.4 seconds RetCode: 0 Status: OK PackageFile: OTUbase_1.59.0.zip PackageFileSize: 561.5 KiB