Package: OTUbase Version: 1.59.0 Command: /Library/Frameworks/R.framework/Resources/bin/R CMD INSTALL OTUbase StartedAt: 2025-07-18 15:26:22 -0400 (Fri, 18 Jul 2025) EndedAt: 2025-07-18 15:26:34 -0400 (Fri, 18 Jul 2025) EllapsedTime: 12.5 seconds RetCode: 0 Status: OK